BEGIN:VCALENDAR
VERSION:2.0
PRODID:-//City of Franklin - Minnesota - 55333 - ECPv6.1.3//NONSGML v1.0//EN
CALSCALE:GREGORIAN
METHOD:PUBLISH
X-WR-CALNAME:City of Franklin - Minnesota - 55333
X-ORIGINAL-URL:https://franklinmn.us
X-WR-CALDESC:Events for City of Franklin - Minnesota - 55333
REFRESH-INTERVAL;VALUE=DURATION:PT1H
X-Robots-Tag:noindex
X-PUBLISHED-TTL:PT1H
BEGIN:VTIMEZONE
TZID:UTC
BEGIN:STANDARD
TZOFFSETFROM:+0000
TZOFFSETTO:+0000
TZNAME:UTC
DTSTART:20230101T000000
END:STANDARD
END:VTIMEZONE
BEGIN:VEVENT
DTSTART;VALUE=DATE:20231128
DTEND;VALUE=DATE:20231129
DTSTAMP:20260423T225621
CREATED:20231010T182519Z
LAST-MODIFIED:20231010T182519Z
UID:12689-1701129600-1701215999@franklinmn.us
SUMMARY:Garbage
DESCRIPTION:Have your bin to the curb Monday evening
URL:https://franklinmn.us/event/garbage-3/
END:VEVENT
BEGIN:VEVENT
DTSTART;VALUE=DATE:20240227
DTEND;VALUE=DATE:20240228
DTSTAMP:20260423T225621
CREATED:20240226T210839Z
LAST-MODIFIED:20240226T210839Z
UID:12734-1708992000-1709078399@franklinmn.us
SUMMARY:Garbage and Recycling
DESCRIPTION:Set your cans out Monday night! \nKeep your cans 6 feet apart!
URL:https://franklinmn.us/event/garbage-and-recycling/
END:VEVENT
BEGIN:VEVENT
DTSTART;TZID=UTC:20240305T080000
DTEND;TZID=UTC:20240305T170000
DTSTAMP:20260423T225621
CREATED:20240226T210911Z
LAST-MODIFIED:20240226T210911Z
UID:12736-1709625600-1709658000@franklinmn.us
SUMMARY:Garbage Day
DESCRIPTION:Set your cans out Monday night! \nKeep your cans 6 feet apart!
URL:https://franklinmn.us/event/garbage-day-5/
END:VEVENT
BEGIN:VEVENT
DTSTART;VALUE=DATE:20240312
DTEND;VALUE=DATE:20240313
DTSTAMP:20260423T225621
CREATED:20240226T210959Z
LAST-MODIFIED:20240226T210959Z
UID:12738-1710201600-1710287999@franklinmn.us
SUMMARY:Garbage and Recycling Day
DESCRIPTION:Set your cans out Monday night! \nKeep your cans 6 feet apart!
URL:https://franklinmn.us/event/garbage-and-recycling-day/
END:VEVENT
BEGIN:VEVENT
DTSTART;TZID=UTC:20240319T080000
DTEND;TZID=UTC:20240319T170000
DTSTAMP:20260423T225621
CREATED:20240226T211031Z
LAST-MODIFIED:20240226T211031Z
UID:12740-1710835200-1710867600@franklinmn.us
SUMMARY:Garbage Day
DESCRIPTION:Set your cans out Monday night! \nKeep your cans 6 feet apart!
URL:https://franklinmn.us/event/garbage-day-6/
END:VEVENT
BEGIN:VEVENT
DTSTART;TZID=UTC:20240326T080000
DTEND;TZID=UTC:20240326T170000
DTSTAMP:20260423T225621
CREATED:20240226T211104Z
LAST-MODIFIED:20240226T211104Z
UID:12742-1711440000-1711472400@franklinmn.us
SUMMARY:Garbage and Recycling Day!
DESCRIPTION:Set your cans out Monday night! \nKeep your cans 6 feet apart!
URL:https://franklinmn.us/event/garbage-and-recycling-day-2/
END:VEVENT
BEGIN:VEVENT
DTSTART;VALUE=DATE:20240402
DTEND;VALUE=DATE:20240403
DTSTAMP:20260423T225621
CREATED:20240226T211146Z
LAST-MODIFIED:20240226T211146Z
UID:12744-1712016000-1712102399@franklinmn.us
SUMMARY:Garbage Day
DESCRIPTION:Set your cans out Monday night! \nKeep your cans 6 feet apart!
URL:https://franklinmn.us/event/garbage-day-7/
END:VEVENT
BEGIN:VEVENT
DTSTART;TZID=UTC:20240409T080000
DTEND;TZID=UTC:20240409T170000
DTSTAMP:20260423T225621
CREATED:20240226T211210Z
LAST-MODIFIED:20240226T211210Z
UID:12746-1712649600-1712682000@franklinmn.us
SUMMARY:Garbage and Recycling Day
DESCRIPTION:Set your cans out Monday night! \nKeep your cans 6 feet apart!
URL:https://franklinmn.us/event/garbage-and-recycling-day-3/
END:VEVENT
BEGIN:VEVENT
DTSTART;VALUE=DATE:20240416
DTEND;VALUE=DATE:20240417
DTSTAMP:20260423T225621
CREATED:20240226T211241Z
LAST-MODIFIED:20240226T211241Z
UID:12748-1713225600-1713311999@franklinmn.us
SUMMARY:Garbage Day
DESCRIPTION:
URL:https://franklinmn.us/event/garbage-day-8/
END:VEVENT
BEGIN:VEVENT
DTSTART;TZID=UTC:20240423T080000
DTEND;TZID=UTC:20240423T170000
DTSTAMP:20260423T225621
CREATED:20240226T211332Z
LAST-MODIFIED:20240226T211332Z
UID:12750-1713859200-1713891600@franklinmn.us
SUMMARY:Garbage and Recycling Day
DESCRIPTION:Set your cans out Monday night! \nKeep your cans 6 feet apart!
URL:https://franklinmn.us/event/garbage-and-recycling-day-4/
END:VEVENT
BEGIN:VEVENT
DTSTART;VALUE=DATE:20240430
DTEND;VALUE=DATE:20240501
DTSTAMP:20260423T225621
CREATED:20240226T211351Z
LAST-MODIFIED:20240226T211351Z
UID:12752-1714435200-1714521599@franklinmn.us
SUMMARY:Garbage Day
DESCRIPTION:Set your cans out Monday night! \nKeep your cans 6 feet apart!
URL:https://franklinmn.us/event/garbage-day-9/
END:VEVENT
BEGIN:VEVENT
DTSTART;TZID=UTC:20240611T060000
DTEND;TZID=UTC:20240611T060000
DTSTAMP:20260423T225621
CREATED:20240606T134929Z
LAST-MODIFIED:20240606T134929Z
UID:12772-1718085600-1718085600@franklinmn.us
SUMMARY:Garbage Day
DESCRIPTION:Have your bins to the curb Monday night!
URL:https://franklinmn.us/event/garbage-day-10/
END:VEVENT
BEGIN:VEVENT
DTSTART;TZID=UTC:20250506T150000
DTEND;TZID=UTC:20250506T200000
DTSTAMP:20260423T225621
CREATED:20250410T135220Z
LAST-MODIFIED:20250410T135220Z
UID:12890-1746543600-1746561600@franklinmn.us
SUMMARY:City Wide Spring Clean up Days
DESCRIPTION:Franklin City Wide Clean Up Days\nMay 6th & 7th(May 8th will be reserved as a rain make up day)\n3:00-8:00PM\nDrop off location: 3rd Street between 1st and 2nd Ave by the water plant\n*Items accepted include items that go to landfill for free\n*Mattresses($45) and furniture items ($10-$20) will be accepted for a fee and must be prepaid at City Hall by May 1st. (City Hall is closed May 5-9)\n*Items NOT accepted include: Hazardous materials\, household garbage\, appliances\, batteries\, bulbs\, tires\, etc.\nCall City Hall (507-557-2259) or Clobes Sanitation (507-426-8362) with questions.
URL:https://franklinmn.us/event/city-wide-spring-clean-up-days/
END:VEVENT
END:VCALENDAR